BEGIN:VCALENDAR
PRODID:-//eluceo/ical//2.0/EN
VERSION:2.0
CALSCALE:GREGORIAN
BEGIN:VEVENT
UID:d2a52ca378968d2f3ea640c4832d78cb
DTSTAMP:20260423T101540Z
SUMMARY:6:30pm JCC Finance Committee Meeting
DESCRIPTION:Shalom Lehigh Valley\nCommunity Calendar\nhttps://shalomlehighv
 alley.org/calendar/630pm-jcc-finance-committee-meeting-o-388596\n\nJCC fin
 ance committee meeting
DTSTART;TZID=America/New_York:20220119T183000
DTEND;TZID=America/New_York:20220119T193000
END:VEVENT
END:VCALENDAR
