BEGIN:VCALENDAR
PRODID:-//eluceo/ical//2.0/EN
VERSION:2.0
CALSCALE:GREGORIAN
BEGIN:VEVENT
UID:881594e7e5f9f66039ee217c876ae67d
DTSTAMP:20260422T142755Z
SUMMARY:6:30pm JCC Finance Committee Meeting
DESCRIPTION:Shalom Lehigh Valley\nCommunity Calendar\nhttps://shalomlehighv
 alley.org/calendar/630pm-jcc-finance-committee-meetingnov-388597\n\nJCC Fi
 nance Committee Meeting
DTSTART;TZID=America/New_York:20220216T183000
DTEND;TZID=America/New_York:20220216T193000
END:VEVENT
END:VCALENDAR
