BEGIN:VCALENDAR
PRODID:-//eluceo/ical//2.0/EN
VERSION:2.0
CALSCALE:GREGORIAN
BEGIN:VEVENT
UID:7b767988b95c1ca6b5acd1694ecc11ad
DTSTAMP:20260419T143426Z
SUMMARY:6:30pm JDS Exec Board Meeting
DESCRIPTION:Shalom Lehigh Valley\nCommunity Calendar\nhttps://shalomlehighv
 alley.org/calendar/630pm-jds-exec-board-meeting-dec2019-330190\n\nJDS Exec
 utive Board Meeting followed by JDS Board Meeting at 7:30am
DTSTART;TZID=America/New_York:20191212T183000
DTEND;TZID=America/New_York:20191212T193000
END:VEVENT
END:VCALENDAR
