BEGIN:VCALENDAR
PRODID:-//eluceo/ical//2.0/EN
VERSION:2.0
CALSCALE:GREGORIAN
BEGIN:VEVENT
UID:db23d55531707f4443db4b3fa1a8480b
DTSTAMP:20260421T050451Z
SUMMARY:JFLV Major Donor Reception
DESCRIPTION:Shalom Lehigh Valley\nCommunity Calendar\nhttps://shalomlehighv
 alley.org/calendar/630pm-jflv-2017-major-donor-reception-199562\n\nRabbi J
 oel Seltzer\, executive director of Camp Ramah in the Poconos\, will tackl
 e the topic of "Making Jews in 21st Century America" at the Federation's a
 nnual major donor reception.\n\nRabbi Joel is originally from Philadelphia
  and he himself is a home-grown product of Camp Ramah in the Poconos. 
 Whether as a camper\, a counselor\, a rosh edah (division head)\, or r
 osh drama (head of performing arts)\, Rabbi Joel learned countless person
 al and professional life lessons from his time at ca...
DTSTART;TZID=America/New_York:20161006T183000
DTEND;TZID=America/New_York:20161006T210000
END:VEVENT
END:VCALENDAR
