BEGIN:VCALENDAR
PRODID:-//eluceo/ical//2.0/EN
VERSION:2.0
CALSCALE:GREGORIAN
BEGIN:VEVENT
UID:df677471e13425f65c84f6c3a36c99b2
DTSTAMP:20260419T130818Z
SUMMARY:6:30PM JFLV Women's Philanthropy Chanukah Party
DESCRIPTION:Shalom Lehigh Valley\nCommunity Calendar\nhttps://shalomlehighv
 alley.org/calendar/630pm-jflv-womens-philanthropy-chanukah-party122022-406
 937\n\n6:30 - 8:00 p.m. on Thursday\, December 15th at the JCC Kline Audi
 torium.\n\n\n\n\n\nEvent Details\n\n• Israeli music\n\n• Games\n\n• 
 White elephant gift ($18 wrapped gift)\n\n• Desserts\, including sufgani
 yot will be served.\n\n• Carpool - let us know if you can drive or if yo
 u need a ride.\n\n\n\n\n\nPlease RSVP by December 7th.\n\n\n\n\n\nYour ple
 dge to the 2023 Annual Campaign for Jewish Needs is required to attend.\n\
 nWhite elephant gift details: Please bring a nice\, wra...
DTSTART;TZID=America/New_York:20221220T183000
DTEND;TZID=America/New_York:20221220T200000
END:VEVENT
END:VCALENDAR
