BEGIN:VCALENDAR
PRODID:-//eluceo/ical//2.0/EN
VERSION:2.0
CALSCALE:GREGORIAN
BEGIN:VEVENT
UID:6b95f25d557e98a865336dcd8e0ea53c
DTSTAMP:20260419T130724Z
SUMMARY:6:30 pm Women's Event
DESCRIPTION:Shalom Lehigh Valley\nCommunity Calendar\nhttps://shalomlehighv
 alley.org/calendar/630pm-womens-event101718-268170\n\nMore information to 
 follow.
DTSTART;TZID=America/New_York:20181017T183000
DTEND;TZID=America/New_York:20181017T200000
END:VEVENT
END:VCALENDAR
