BEGIN:VCALENDAR
PRODID:-//eluceo/ical//2.0/EN
VERSION:2.0
CALSCALE:GREGORIAN
BEGIN:VEVENT
UID:02caea6c17cdecea95c35d4b0756a23f
DTSTAMP:20260419T230804Z
SUMMARY:6:45 pm TBE SUKKOT 2019 DInner
DESCRIPTION:Shalom Lehigh Valley\nCommunity Calendar\nhttps://shalomlehighv
 alley.org/calendar/645-pm-tbe-sukkot-2019-dinner-304435\n\n6:45 pm TBE SUK
 KOT 2019 Dinner - Call TBE office at 610-435-3521\, for Details including 
 Pricing and RSVP date..
DTSTART;TZID=America/New_York:20191018T184500
DTEND;TZID=America/New_York:20191018T201500
END:VEVENT
END:VCALENDAR
