BEGIN:VCALENDAR
PRODID:-//eluceo/ical//2.0/EN
VERSION:2.0
CALSCALE:GREGORIAN
BEGIN:VEVENT
UID:acadca399e9b9b3ab90d9d442ef34cc6
DTSTAMP:20260420T051315Z
SUMMARY:6:45 pm TBE Teen Shabbat Dinner
DESCRIPTION:Shalom Lehigh Valley\nCommunity Calendar\nhttps://shalomlehighv
 alley.org/calendar/645-pm-tbe-teen-shabbat-dinner-1-26-18-224962\n\nContac
 t Michelle Rohrbach: michelle@bethelallentown.org or 610-435-3521.
DTSTART;TZID=America/New_York:20180209T184500
DTEND;TZID=America/New_York:20180209T204500
END:VEVENT
END:VCALENDAR
