BEGIN:VCALENDAR
PRODID:-//eluceo/ical//2.0/EN
VERSION:2.0
CALSCALE:GREGORIAN
BEGIN:VEVENT
UID:6d08ab77ff32024ed0bcc02e1f309093
DTSTAMP:20260420T185026Z
SUMMARY:6:00 am JCC Sukkahs on Display
DESCRIPTION:Shalom Lehigh Valley\nCommunity Calendar\nhttps://shalomlehighv
 alley.org/calendar/6am-jcc-sukkahs-on-display10-210993\n\nContact Sandy Ne
 wman: snewman@lvjcc.org or 610-435-3571 x115.
DTSTART;TZID=America/New_York:20171010T060000
DTEND;TZID=America/New_York:20171010T213000
END:VEVENT
END:VCALENDAR
