BEGIN:VCALENDAR
PRODID:-//eluceo/ical//2.0/EN
VERSION:2.0
CALSCALE:GREGORIAN
BEGIN:VEVENT
UID:3468eb2bf23b954bce7d1baa389c3810
DTSTAMP:20260419T203009Z
SUMMARY:6:00 pm JCC Adults at the J:  Phantoms Party Suite
DESCRIPTION:Shalom Lehigh Valley\nCommunity Calendar\nhttps://shalomlehighv
 alley.org/calendar/6pm-jcc-adults-at-the-j-phantoms-party-suite-2-10-16-16
 6520\n\nContact Amy Sams: asams@lvjcc.org or 610-435-3571.
DTSTART;TZID=America/New_York:20160210T180000
DTEND;TZID=America/New_York:20160210T230000
END:VEVENT
END:VCALENDAR
