BEGIN:VCALENDAR
PRODID:-//eluceo/ical//2.0/EN
VERSION:2.0
CALSCALE:GREGORIAN
BEGIN:VEVENT
UID:99d35364844de81d65c5a0aaf127a23e
DTSTAMP:20260421T203703Z
SUMMARY:6:00 pm JCC BBG Meeting
DESCRIPTION:Shalom Lehigh Valley\nCommunity Calendar\nhttps://shalomlehighv
 alley.org/calendar/6pm-jcc-bbg-1-19-16-165142\n\nContact Ji-In Friess at 6
 10-435-3571 or allentownnsiah@gmail.com
DTSTART;TZID=America/New_York:20160119T180000
DTEND;TZID=America/New_York:20160119T200000
END:VEVENT
END:VCALENDAR
