BEGIN:VCALENDAR
PRODID:-//eluceo/ical//2.0/EN
VERSION:2.0
CALSCALE:GREGORIAN
BEGIN:VEVENT
UID:6d1929513fba8ba4270a143325ab2304
DTSTAMP:20260420T161331Z
SUMMARY:6:00 pm JCC BBG Meeting
DESCRIPTION:Shalom Lehigh Valley\nCommunity Calendar\nhttps://shalomlehighv
 alley.org/calendar/6pm-jcc-bbg-meeting-10-29-15-165137\n\nContact Ji-In Fr
 iess at 610-435-3571 or allentownnsiah@gmail.com
DTSTART;TZID=America/New_York:20151029T180000
DTEND;TZID=America/New_York:20151029T200000
END:VEVENT
END:VCALENDAR
