BEGIN:VCALENDAR
PRODID:-//eluceo/ical//2.0/EN
VERSION:2.0
CALSCALE:GREGORIAN
BEGIN:VEVENT
UID:46c934f2f9a257d8894613f4527a51b7
DTSTAMP:20260420T123608Z
SUMMARY:6:00 pm JCC BBG Meeting
DESCRIPTION:Shalom Lehigh Valley\nCommunity Calendar\nhttps://shalomlehighv
 alley.org/calendar/6pm-jcc-bbg-meeting-4-12-16-165143\n\nContact Ji-In Fri
 ess at 610-435-3571 or allentownnsiah@gmail.com
DTSTART;TZID=America/New_York:20160412T180000
DTEND;TZID=America/New_York:20160412T200000
END:VEVENT
END:VCALENDAR
