BEGIN:VCALENDAR
PRODID:-//eluceo/ical//2.0/EN
VERSION:2.0
CALSCALE:GREGORIAN
BEGIN:VEVENT
UID:4db143e393bf50d7c8137c5f5d36c487
DTSTAMP:20260421T115401Z
SUMMARY:6:00 pm JCC BBG Meeting
DESCRIPTION:Shalom Lehigh Valley\nCommunity Calendar\nhttps://shalomlehighv
 alley.org/calendar/6pm-jcc-bbg-meeting-9-29-15-165135\n\nContact Ji-In Fri
 ess at 610-435-3571 or allentownnsiah@gmail.com
DTSTART;TZID=America/New_York:20150929T180000
DTEND;TZID=America/New_York:20150929T200000
END:VEVENT
END:VCALENDAR
