BEGIN:VCALENDAR
PRODID:-//eluceo/ical//2.0/EN
VERSION:2.0
CALSCALE:GREGORIAN
BEGIN:VEVENT
UID:c6dd2ceb3e0fb18cfb0c765c036f3314
DTSTAMP:20260421T030353Z
SUMMARY:6pm JCC Celebrate Sukkot at the JCC 2023
DESCRIPTION:Shalom Lehigh Valley\nCommunity Calendar\nhttps://shalomlehighv
 alley.org/calendar/6pm-jcc-celebrate-sukkot-at-the-jcc-2023-6-436839\n\nFr
 iday\, September 29\, Sunday\, October 1 thru Friday\, October 6\n12pm\, 
 1:30pm\, 5:30 pm or 7:00pm. Reserve a time slot to enjoy a special meal wi
 th your family in the JCC’s sukkah. Please bring a kosher style meal and
  enjoy spending time in the sukkah.\n\nPlease contact Jackie Weiss at jwei
 ss@lvjcc.org
DTSTART;TZID=America/New_York:20230929T000000
DTEND;TZID=America/New_York:20230929T235959
END:VEVENT
END:VCALENDAR
