BEGIN:VCALENDAR
PRODID:-//eluceo/ical//2.0/EN
VERSION:2.0
CALSCALE:GREGORIAN
BEGIN:VEVENT
UID:0bb763e16de8d4fc304cea19042b3680
DTSTAMP:20260419T161030Z
SUMMARY:6pm JCC J-Arts Mosaics Class
DESCRIPTION:Shalom Lehigh Valley\nCommunity Calendar\nhttps://shalomlehighv
 alley.org/calendar/6pm-jcc-j-arts-mosaics-class-july-300929\n\nIn this 8-w
 eek class you will learn all the skills needed to create your own beautifu
 l mosaics.  Instructor Cindy Schneider will teach participants how to saf
 ely handle glass and how to use appropriate glass cutting tools.
DTSTART;TZID=America/New_York:20190710T180000
DTEND;TZID=America/New_York:20190710T203000
END:VEVENT
END:VCALENDAR
