BEGIN:VCALENDAR
PRODID:-//eluceo/ical//2.0/EN
VERSION:2.0
CALSCALE:GREGORIAN
BEGIN:VEVENT
UID:fe749cb21d08a958258fb97afdcf269a
DTSTAMP:20260420T163254Z
SUMMARY:6:00 pm JCC Pre K and Kindergarten Early Bird Registration
DESCRIPTION:Shalom Lehigh Valley\nCommunity Calendar\nhttps://shalomlehighv
 alley.org/calendar/6pm-jcc-pre-k-and-kindergarten-early-bird-registration-
 2-18-16-178160\n\nContact Alexa Karakos at 610-435-3571 or akarakos@lvjcc.
 org.
DTSTART;TZID=America/New_York:20160218T180000
DTEND;TZID=America/New_York:20160218T200000
END:VEVENT
END:VCALENDAR
