BEGIN:VCALENDAR
PRODID:-//eluceo/ical//2.0/EN
VERSION:2.0
CALSCALE:GREGORIAN
BEGIN:VEVENT
UID:32310c1c6e2b963282b8412b3e373baf
DTSTAMP:20260419T185620Z
SUMMARY:6:00 pm JCC Stagemakers Singing in the Rain Call Backs
DESCRIPTION:Shalom Lehigh Valley\nCommunity Calendar\nhttps://shalomlehighv
 alley.org/calendar/6pm-jcc-stagemakers-singing-in-the-rain-call-backs-1813
 66\n\nContact Brenda Finberg: bfinberg@lvjcc.org or 610-435-3571.
DTSTART;TZID=America/New_York:20160908T180000
DTEND;TZID=America/New_York:20160908T210000
END:VEVENT
END:VCALENDAR
