BEGIN:VCALENDAR
PRODID:-//eluceo/ical//2.0/EN
VERSION:2.0
CALSCALE:GREGORIAN
BEGIN:VEVENT
UID:f76fb7eb6ba179780917da7d38bec2a2
DTSTAMP:20260421T195942Z
SUMMARY:6pm JCC Winter II 2019: Mosaics (WEDNESDAYS)
DESCRIPTION:Shalom Lehigh Valley\nCommunity Calendar\nhttps://shalomlehighv
 alley.org/calendar/6pm-jcc-wednesday-300036\n\nIn this 4-week class you wi
 ll learn all the skills needed to create your own beautiful mosaic art. Al
 l materials are included in this course.
DTSTART;TZID=America/New_York:20190327T180000
DTEND;TZID=America/New_York:20190327T203000
END:VEVENT
END:VCALENDAR
