BEGIN:VCALENDAR
PRODID:-//eluceo/ical//2.0/EN
VERSION:2.0
CALSCALE:GREGORIAN
BEGIN:VEVENT
UID:08c7119d314d28d8151f26aca9b3c74e
DTSTAMP:20260422T012427Z
SUMMARY:7 pm TBE Comedy Night
DESCRIPTION:Shalom Lehigh Valley\nCommunity Calendar\nhttps://shalomlehighv
 alley.org/calendar/7-pm-tbe-comedy-night-378405\n\n7 pm TBE Comdey Night. 
 Details to follow!
DTSTART;TZID=America/New_York:20220226T190000
DTEND;TZID=America/New_York:20220226T210000
END:VEVENT
END:VCALENDAR
