BEGIN:VCALENDAR
PRODID:-//eluceo/ical//2.0/EN
VERSION:2.0
CALSCALE:GREGORIAN
BEGIN:VEVENT
UID:2946406f6e2bfbf5ce3d5ec22e00d8fe
DTSTAMP:20260420T135511Z
SUMMARY:7:00 pm CANCELLED JFLV CRC Meeting
DESCRIPTION:Shalom Lehigh Valley\nCommunity Calendar\nhttps://shalomlehighv
 alley.org/calendar/700-pm-cancelled-jflv-crc-meeting-1-15-18-245592\n\nCon
 tact: Aaron Gorodzinsky aaron@jflv.org or 610-821-5500 x337.
DTSTART;TZID=America/New_York:20180115T190000
DTEND;TZID=America/New_York:20180115T210000
END:VEVENT
END:VCALENDAR
