BEGIN:VCALENDAR
PRODID:-//eluceo/ical//2.0/EN
VERSION:2.0
CALSCALE:GREGORIAN
BEGIN:VEVENT
UID:9d80643fd64763b292c0e9f6f1de357d
DTSTAMP:20260420T175121Z
SUMMARY:7:00 PM KI Family Service and Birthday Celebration-May
DESCRIPTION:Shalom Lehigh Valley\nCommunity Calendar\nhttps://shalomlehighv
 alley.org/calendar/700-pm-family-service-and-birthday-celebration-may-3171
 00\n\nShabbat service
DTSTART;TZID=America/New_York:20200501T190000
DTEND;TZID=America/New_York:20200501T210000
END:VEVENT
END:VCALENDAR
