BEGIN:VCALENDAR
PRODID:-//eluceo/ical//2.0/EN
VERSION:2.0
CALSCALE:GREGORIAN
BEGIN:VEVENT
UID:cfa593a0cd1d4f6fca9f268938347ae7
DTSTAMP:20260420T191810Z
SUMMARY:7:00 pm JCC Author Series Event
DESCRIPTION:Shalom Lehigh Valley\nCommunity Calendar\nhttps://shalomlehighv
 alley.org/calendar/700-pm-jcc-author-series-event-10-30-16-199668\n\nConta
 ct Monica Friess at mfriess@lvjcc.org or 610-428-0140
DTSTART;TZID=America/New_York:20161030T190000
DTEND;TZID=America/New_York:20161030T210000
END:VEVENT
END:VCALENDAR
