BEGIN:VCALENDAR
PRODID:-//eluceo/ical//2.0/EN
VERSION:2.0
CALSCALE:GREGORIAN
BEGIN:VEVENT
UID:63b54e6715b48ccf8385ed2411ea829b
DTSTAMP:20260420T105052Z
SUMMARY:7:00 pm JCC Stagemakers Fame Jr. Performance
DESCRIPTION:Shalom Lehigh Valley\nCommunity Calendar\nhttps://shalomlehighv
 alley.org/calendar/700-pm-jcc-stagemakers-fame-jr-performance-5-18-17-1814
 92\n\nContact Brenda Finberg: bfinberg@lvjcc.org or 610-435-3571.
DTSTART;TZID=America/New_York:20170518T190000
DTEND;TZID=America/New_York:20170518T220000
END:VEVENT
END:VCALENDAR
