BEGIN:VCALENDAR
PRODID:-//eluceo/ical//2.0/EN
VERSION:2.0
CALSCALE:GREGORIAN
BEGIN:VEVENT
UID:29fe23562e3717eaf2fe43a3d0334497
DTSTAMP:20260420T150421Z
SUMMARY:7:00 pm JCC Sweet Adelines
DESCRIPTION:Shalom Lehigh Valley\nCommunity Calendar\nhttps://shalomlehighv
 alley.org/calendar/700-pm-jcc-sweet-adelines-1-20-18-252688\n\nContact Mon
 ica Friess at mfriess@lvjcc.org or 610-428-0140.
DTSTART;TZID=America/New_York:20180120T190000
DTEND;TZID=America/New_York:20180120T203000
END:VEVENT
END:VCALENDAR
