BEGIN:VCALENDAR
PRODID:-//eluceo/ical//2.0/EN
VERSION:2.0
CALSCALE:GREGORIAN
BEGIN:VEVENT
UID:1b0d9ab6a608d6462a5493806bcf17e5
DTSTAMP:20260420T162224Z
SUMMARY:7:00 pm JDS Board Meeting
DESCRIPTION:Shalom Lehigh Valley\nCommunity Calendar\nhttps://shalomlehighv
 alley.org/calendar/700-pm-jds-board-meeting-2-18-16-151788\n\nContact Adri
 enne Manger: amanger@jdslv.org or 610-437-0721
DTSTART;TZID=America/New_York:20160218T190000
DTEND;TZID=America/New_York:20160218T210000
END:VEVENT
END:VCALENDAR
