BEGIN:VCALENDAR
PRODID:-//eluceo/ical//2.0/EN
VERSION:2.0
CALSCALE:GREGORIAN
BEGIN:VEVENT
UID:16695aedb4137e13c6eb8489b6431760
DTSTAMP:20260419T165309Z
SUMMARY:7:00 pm JDS Board Meeting TENTATIVE DATE
DESCRIPTION:Shalom Lehigh Valley\nCommunity Calendar\nhttps://shalomlehighv
 alley.org/calendar/700-pm-jds-board-meeting-tentative-date-11-18-15-151791
 \n\nContact Adrienne Manger: amanger@jdslv.org or 610-437-0721
DTSTART;TZID=America/New_York:20151118T190000
DTEND;TZID=America/New_York:20151118T210000
END:VEVENT
END:VCALENDAR
