BEGIN:VCALENDAR
PRODID:-//eluceo/ical//2.0/EN
VERSION:2.0
CALSCALE:GREGORIAN
BEGIN:VEVENT
UID:8d31906a26a259dc08adf4b4adc09ea1
DTSTAMP:20260419T190733Z
SUMMARY:7:00 pm JDS Executive Board Meeting 
DESCRIPTION:Shalom Lehigh Valley\nCommunity Calendar\nhttps://shalomlehighv
 alley.org/calendar/700-pm-jds-executive-board-meeting-4-6-16-151778\n\nCon
 tact Adrienne Manger: amanger@jdslv.org or 610-437-0721
DTSTART;TZID=America/New_York:20160406T190000
DTEND;TZID=America/New_York:20160406T210000
END:VEVENT
END:VCALENDAR
