BEGIN:VCALENDAR
PRODID:-//eluceo/ical//2.0/EN
VERSION:2.0
CALSCALE:GREGORIAN
BEGIN:VEVENT
UID:f992bcaeea6e62cb433238f8cca539e0
DTSTAMP:20260421T023046Z
SUMMARY:7:00 pm JDS Finance Committee Meeting #1
DESCRIPTION:Shalom Lehigh Valley\nCommunity Calendar\nhttps://shalomlehighv
 alley.org/calendar/700-pm-jds-finance-committee-meeting-1-83648\n\nContact
  Melyssa Lentz - mlentz@jdslv.org or 610-437-0721
DTSTART;TZID=America/New_York:20140821T190000
DTEND;TZID=America/New_York:20140821T210000
END:VEVENT
END:VCALENDAR
