BEGIN:VCALENDAR
PRODID:-//eluceo/ical//2.0/EN
VERSION:2.0
CALSCALE:GREGORIAN
BEGIN:VEVENT
UID:8e6d3383072e45be35db85ba945951ca
DTSTAMP:20260421T213327Z
SUMMARY:7:00 pm JDS Upper Elementary and Middle School Curriculum Night
DESCRIPTION:Shalom Lehigh Valley\nCommunity Calendar\nhttps://shalomlehighv
 alley.org/calendar/700-pm-jds-upper-elementary-and-middle-school-curriculu
 m-night-416797\n\nPlease join us at the Jewish Day School for Upper Eleme
 ntary and Middle School Curriculum Night. This is a parents only event.\n
 \nFor questions or more information\, please contact Beth Kushnick bkushni
 ck@jdslv.org\, 610-437-0721
DTSTART;TZID=America/New_York:20220920T190000
DTEND;TZID=America/New_York:20220920T200000
END:VEVENT
END:VCALENDAR
