BEGIN:VCALENDAR
PRODID:-//eluceo/ical//2.0/EN
VERSION:2.0
CALSCALE:GREGORIAN
BEGIN:VEVENT
UID:face5cdacfb5a7fd1538f7eead30afd4
DTSTAMP:20260421T104020Z
SUMMARY:7:00 pm JFLV CRC Meeting 2/4/20
DESCRIPTION:Shalom Lehigh Valley\nCommunity Calendar\nhttps://shalomlehighv
 alley.org/calendar/700-pm-jflv-crc-meeting-2420-322288\n\n7:00 pm JFLV CRC
  Meeting
DTSTART;TZID=America/New_York:20200204T190000
DTEND;TZID=America/New_York:20200204T200000
END:VEVENT
END:VCALENDAR
