BEGIN:VCALENDAR
PRODID:-//eluceo/ical//2.0/EN
VERSION:2.0
CALSCALE:GREGORIAN
BEGIN:VEVENT
UID:b25e04812766e0cbce8f3b89f50d09fa
DTSTAMP:20260419T190940Z
SUMMARY:7:00 pm JFLV CRC Meeting
DESCRIPTION:Shalom Lehigh Valley\nCommunity Calendar\nhttps://shalomlehighv
 alley.org/calendar/700-pm-jflv-crc-meeting-4-23-18-245595\n\nContact: Aaro
 n Gorodzinsky aaron@jflv.org or 610-821-5500 x337.
DTSTART;TZID=America/New_York:20180423T190000
DTEND;TZID=America/New_York:20180423T210000
END:VEVENT
END:VCALENDAR
