BEGIN:VCALENDAR
PRODID:-//eluceo/ical//2.0/EN
VERSION:2.0
CALSCALE:GREGORIAN
BEGIN:VEVENT
UID:13e40a9fdeb277ed11f24560c283b52f
DTSTAMP:20260420T043018Z
SUMMARY:7:00 pm JFLV CRC Meeting
DESCRIPTION:Shalom Lehigh Valley\nCommunity Calendar\nhttps://shalomlehighv
 alley.org/calendar/700-pm-jflv-crc-meeting-8-31-15-153955\n\nContact: Aaro
 n Gorodzinsky aaron@jflv.org or 610-821-5500 x337
DTSTART;TZID=America/New_York:20150831T190000
DTEND;TZID=America/New_York:20150831T210000
END:VEVENT
END:VCALENDAR
