BEGIN:VCALENDAR
PRODID:-//eluceo/ical//2.0/EN
VERSION:2.0
CALSCALE:GREGORIAN
BEGIN:VEVENT
UID:bbcd3cedc2a4aa28d194fb09d43e30f6
DTSTAMP:20260424T084927Z
SUMMARY:7:00 pm JFLV Elected Official Forum
DESCRIPTION:Shalom Lehigh Valley\nCommunity Calendar\nhttps://shalomlehighv
 alley.org/calendar/700-pm-jflv-elected-official-forum-409659\n\nTHURSDAY\,
  OCTOBER 13\, 2022\n\n7 p.m.\, JCC of the Lehigh Valley & YouTube Live\n\n
  \n\nAn Evening with the Candidates\n\n \n\nA pivotal contest will tak
 e place in the Lehigh Valley on election day. Join us and listen to Lisa S
 cheller and Susan Wild individually speak about their campaign focal point
 s and their views on various issues of great importance for the Jewish co
 mmunity and beyond. Make an informed decision on election day by attendin
 g this event!\n\n \n\n \n\nThis election...
DTSTART;TZID=America/New_York:20221013T190000
DTEND;TZID=America/New_York:20221013T200000
END:VEVENT
END:VCALENDAR
