BEGIN:VCALENDAR
PRODID:-//eluceo/ical//2.0/EN
VERSION:2.0
CALSCALE:GREGORIAN
BEGIN:VEVENT
UID:06c11133fa9b6fdf5792c04148864873
DTSTAMP:20260419T155722Z
SUMMARY:7:00 pm JFLV Major Donor Reception
DESCRIPTION:Shalom Lehigh Valley\nCommunity Calendar\nhttps://shalomlehighv
 alley.org/calendar/700-pm-jflv-major-donor-reception-412218\n\nOutdoor ten
 t at a Private Home\n\nRSVP by September 14 to 610-821-5500 or mailbox@jfl
 v.org\n\nOpen to households pledging $5\,000 or more to the 2023 Annual Ca
 mpaign for Jewish Needs \n\n\n \n\nJOIN US FOR A SPECIAL EVENING WITH \
 n\nALON BEN-DAVID \n\n\n\nA television and print journalist\, who has bee
 n covering the Middle East conflict for the last three decades. Specializ
 ing in defense and military issues\, Mr. Ben-David is currently Senior Def
 ense  Correspondent for Israel Channel 10 an...
DTSTART;TZID=America/New_York:20220921T183000
DTEND;TZID=America/New_York:20220921T210000
END:VEVENT
END:VCALENDAR
