BEGIN:VCALENDAR
PRODID:-//eluceo/ical//2.0/EN
VERSION:2.0
CALSCALE:GREGORIAN
BEGIN:VEVENT
UID:01f1fa0b25c8dbc96c470f1fb3d8b891
DTSTAMP:20260420T003122Z
SUMMARY:7:00 PM KI  A Taste of Judaism
DESCRIPTION:Shalom Lehigh Valley\nCommunity Calendar\nhttps://shalomlehighv
 alley.org/calendar/700-pm-ki-a-taste-of-judaism-285346\n\nPerfect for thos
 e exploring Judaism for the first time\, for partners or parents of Jews a
 nd for those just curious.\n\nFREE. Other classes October 22\, 29\n\nQuest
 ions? Call Martina Obenski at 610-966-3226 or Rabbi Seth
DTSTART;TZID=America/New_York:20181015T190000
DTEND;TZID=America/New_York:20181015T203000
END:VEVENT
END:VCALENDAR
