BEGIN:VCALENDAR
PRODID:-//eluceo/ical//2.0/EN
VERSION:2.0
CALSCALE:GREGORIAN
BEGIN:VEVENT
UID:19904104e89b3a9767cb86e6bde68804
DTSTAMP:20260421T084756Z
SUMMARY:7:00 pm KI Board Meeting
DESCRIPTION:Shalom Lehigh Valley\nCommunity Calendar\nhttps://shalomlehighv
 alley.org/calendar/700-pm-ki-board-meeting-3-9-16-145991\n\nContact Vikki 
 Dunn: vdunn@kilv.org or 610-435-9074.
DTSTART;TZID=America/New_York:20160309T190000
DTEND;TZID=America/New_York:20160309T210000
END:VEVENT
END:VCALENDAR
