BEGIN:VCALENDAR
PRODID:-//eluceo/ical//2.0/EN
VERSION:2.0
CALSCALE:GREGORIAN
BEGIN:VEVENT
UID:fd80db0f4c0a7b27a8382da04930386e
DTSTAMP:20260419T161429Z
SUMMARY:7:00 pm KI Board Meeting
DESCRIPTION:Shalom Lehigh Valley\nCommunity Calendar\nhttps://shalomlehighv
 alley.org/calendar/700-pm-ki-board-meeting-9-9-15-145984\n\nContact Vikki 
 Dunn: vdunn@kilv.org or 610-435-9074.
DTSTART;TZID=America/New_York:20150909T190000
DTEND;TZID=America/New_York:20150909T210000
END:VEVENT
END:VCALENDAR
