BEGIN:VCALENDAR
PRODID:-//eluceo/ical//2.0/EN
VERSION:2.0
CALSCALE:GREGORIAN
BEGIN:VEVENT
UID:22b911593a7d5d44733840b65250838b
DTSTAMP:20260419T194940Z
SUMMARY:7:00 pm KI Board of Trustees
DESCRIPTION:Shalom Lehigh Valley\nCommunity Calendar\nhttps://shalomlehighv
 alley.org/calendar/700-pm-ki-board-of-trustees-1-17-18-238742\n\nContact V
 ikki Dunn: vdunn@kilv.org or 610-435-9074.
DTSTART;TZID=America/New_York:20180117T190000
DTEND;TZID=America/New_York:20180117T210000
END:VEVENT
END:VCALENDAR
