BEGIN:VCALENDAR
PRODID:-//eluceo/ical//2.0/EN
VERSION:2.0
CALSCALE:GREGORIAN
BEGIN:VEVENT
UID:b97e8d012e6103cca81e4163cff20201
DTSTAMP:20260420T003158Z
SUMMARY:7:00 pm KI Board of Trustees
DESCRIPTION:Shalom Lehigh Valley\nCommunity Calendar\nhttps://shalomlehighv
 alley.org/calendar/700-pm-ki-board-of-trustees-12-20-17-238741\n\nContact 
 Vikki Dunn: vdunn@kilv.org or 610-435-9074.
DTSTART;TZID=America/New_York:20171220T190000
DTEND;TZID=America/New_York:20171220T210000
END:VEVENT
END:VCALENDAR
