BEGIN:VCALENDAR
PRODID:-//eluceo/ical//2.0/EN
VERSION:2.0
CALSCALE:GREGORIAN
BEGIN:VEVENT
UID:7a16cacdb7ac803b08f520eb63975523
DTSTAMP:20260420T092113Z
SUMMARY:7:00 pm KI Board of Trustees Meeting
DESCRIPTION:Shalom Lehigh Valley\nCommunity Calendar\nhttps://shalomlehighv
 alley.org/calendar/700-pm-ki-board-of-trustees-meeting-113899\n\nContact V
 ikki Dunn: vdunn@kilv.org / 610-435-9074.
DTSTART;TZID=America/New_York:20141022T190000
DTEND;TZID=America/New_York:20141022T210000
END:VEVENT
END:VCALENDAR
