BEGIN:VCALENDAR
PRODID:-//eluceo/ical//2.0/EN
VERSION:2.0
CALSCALE:GREGORIAN
BEGIN:VEVENT
UID:dafef64051639f170277ff9b3c80aa0b
DTSTAMP:20260420T210941Z
SUMMARY:7:00 pm KI Board of Trustees Meeting
DESCRIPTION:Shalom Lehigh Valley\nCommunity Calendar\nhttps://shalomlehighv
 alley.org/calendar/700-pm-ki-board-of-trustees-meeting-5-13-15-126900\n\nC
 ontact Vikki Dunn: vdunn@kilv.org or 610-435-9074.
DTSTART;TZID=America/New_York:20150513T190000
DTEND;TZID=America/New_York:20150513T210000
END:VEVENT
END:VCALENDAR
