BEGIN:VCALENDAR
PRODID:-//eluceo/ical//2.0/EN
VERSION:2.0
CALSCALE:GREGORIAN
BEGIN:VEVENT
UID:62dbc0a582185cec2994a5c8f1679420
DTSTAMP:20260421T023036Z
SUMMARY:7:00 PM KI Board of Trustees Meeting November
DESCRIPTION:Shalom Lehigh Valley\nCommunity Calendar\nhttps://shalomlehighv
 alley.org/calendar/700-pm-ki-board-of-trustees-meeting-november-277578\n\n
 Monthly meeting
DTSTART;TZID=America/New_York:20181114T190000
DTEND;TZID=America/New_York:20181114T203000
END:VEVENT
END:VCALENDAR
