BEGIN:VCALENDAR
PRODID:-//eluceo/ical//2.0/EN
VERSION:2.0
CALSCALE:GREGORIAN
BEGIN:VEVENT
UID:22d5ce7a9046072776e6feb9e69d0323
DTSTAMP:20260419T203039Z
SUMMARY:7:00 pm KI Membership Committee Meeting
DESCRIPTION:Shalom Lehigh Valley\nCommunity Calendar\nhttps://shalomlehighv
 alley.org/calendar/700-pm-ki-membership-committee-meeting-2-5-15-130058\n\
 nThis meeting will be held in the Board Room. Contact Vikki Dunn: vdunn@ki
 lv.org or 610-435-9074.
DTSTART;TZID=America/New_York:20150205T190000
DTEND;TZID=America/New_York:20150205T203000
END:VEVENT
END:VCALENDAR
