BEGIN:VCALENDAR
PRODID:-//eluceo/ical//2.0/EN
VERSION:2.0
CALSCALE:GREGORIAN
BEGIN:VEVENT
UID:6756e998936edabaa3d49d8bcda9a881
DTSTAMP:20260420T091709Z
SUMMARY:7:00 PM KI Mussar
DESCRIPTION:Shalom Lehigh Valley\nCommunity Calendar\nhttps://shalomlehighv
 alley.org/calendar/700-pm-ki-mussar-314875\n\nContact KI office for more i
 nfo.
DTSTART;TZID=America/New_York:20190910T190000
DTEND;TZID=America/New_York:20190910T210000
END:VEVENT
END:VCALENDAR
