BEGIN:VCALENDAR
PRODID:-//eluceo/ical//2.0/EN
VERSION:2.0
CALSCALE:GREGORIAN
BEGIN:VEVENT
UID:4e925a5580e57aab71c1caf09bdfa44e
DTSTAMP:20260420T175026Z
SUMMARY:7:00 pm KI Shavuot and Confirmation Service
DESCRIPTION:Shalom Lehigh Valley\nCommunity Calendar\nhttps://shalomlehighv
 alley.org/calendar/700-pm-ki-shavuot-and-confirmation-service-6-11-16-1902
 74\n\nContact Vikki Dunn: vdunn@kilv.org or 610-435-9074.
DTSTART;TZID=America/New_York:20160611T190000
DTEND;TZID=America/New_York:20160611T213000
END:VEVENT
END:VCALENDAR
