BEGIN:VCALENDAR
PRODID:-//eluceo/ical//2.0/EN
VERSION:2.0
CALSCALE:GREGORIAN
BEGIN:VEVENT
UID:5b70a9ee121de08aa46aaef868d0d9f1
DTSTAMP:20260419T230900Z
SUMMARY:7:00 PM KI Taste of Judaism #1
DESCRIPTION:Shalom Lehigh Valley\nCommunity Calendar\nhttps://shalomlehighv
 alley.org/calendar/700-pm-ki-taste-of-judaism-1-331349\n\nFREE.  This is 
 a perfect introduction to Judaism for a non-Jewish family member\, a frien
 d or someone considering conversion.  Taught by Rabbi Seth Phillips and f
 eaturing various speakers\, this is the perfect "toe in the water" intro t
 o Jewish customs\, values and holidays.  RSVP is required.  Call Martina
  Obenski at (610) 966-3226.
DTSTART;TZID=America/New_York:20191030T190000
DTEND;TZID=America/New_York:20191030T210000
END:VEVENT
END:VCALENDAR
