BEGIN:VCALENDAR
PRODID:-//eluceo/ical//2.0/EN
VERSION:2.0
CALSCALE:GREGORIAN
BEGIN:VEVENT
UID:28d29b75faf593580154f0568106dbf1
DTSTAMP:20260420T105009Z
SUMMARY:7:00 PM KI Tikkun Olam Lecture
DESCRIPTION:Shalom Lehigh Valley\nCommunity Calendar\nhttps://shalomlehighv
 alley.org/calendar/700-pm-ki-tikkun-olam-lecture-281224\n\nMore details to
  follow
DTSTART;TZID=America/New_York:20181010T190000
DTEND;TZID=America/New_York:20181010T210000
END:VEVENT
END:VCALENDAR
