BEGIN:VCALENDAR
PRODID:-//eluceo/ical//2.0/EN
VERSION:2.0
CALSCALE:GREGORIAN
BEGIN:VEVENT
UID:4cb615204f2c7662c36f285323e869ab
DTSTAMP:20260419T161449Z
SUMMARY:7:00 PM KI Torah repair with visiting Sofer
DESCRIPTION:Shalom Lehigh Valley\nCommunity Calendar\nhttps://shalomlehighv
 alley.org/calendar/700-pm-ki-torah-repair-with-visiting-sofer-324503\n\nLe
 arn about the fine art of repairing a Torah.  Please RSVP to the Temple o
 ffice (610) 435-9074.
DTSTART;TZID=America/New_York:20191104T190000
DTEND;TZID=America/New_York:20191104T210000
END:VEVENT
END:VCALENDAR
