BEGIN:VCALENDAR
PRODID:-//eluceo/ical//2.0/EN
VERSION:2.0
CALSCALE:GREGORIAN
BEGIN:VEVENT
UID:612912377ee4b491ac7125dc2dc01f4b
DTSTAMP:20260422T012459Z
SUMMARY:7:00 pm PJ Library Meeting 
DESCRIPTION:Shalom Lehigh Valley\nCommunity Calendar\nhttps://shalomlehighv
 alley.org/calendar/700-pm-pj-library-meeting-125916\n\nMeeting will be hel
 d in JCC Room 211. Contact Abby Trachtman 610-821-5500 or abbyt@jflv.org.
DTSTART;TZID=America/New_York:20141203T190000
DTEND;TZID=America/New_York:20141203T203000
END:VEVENT
END:VCALENDAR
